BEGIN:VCALENDAR
VERSION:2.0
PRODID:-//IDI Kitchener-Waterloo - ECPv6.15.20//NONSGML v1.0//EN
CALSCALE:GREGORIAN
METHOD:PUBLISH
X-ORIGINAL-URL:https://idikw.ca
X-WR-CALDESC:Events for IDI Kitchener-Waterloo
REFRESH-INTERVAL;VALUE=DURATION:PT1H
X-Robots-Tag:noindex
X-PUBLISHED-TTL:PT1H
BEGIN:VTIMEZONE
TZID:America/Toronto
BEGIN:DAYLIGHT
TZOFFSETFROM:-0500
TZOFFSETTO:-0400
TZNAME:EDT
DTSTART:20220313T070000
END:DAYLIGHT
BEGIN:STANDARD
TZOFFSETFROM:-0400
TZOFFSETTO:-0500
TZNAME:EST
DTSTART:20221106T060000
END:STANDARD
BEGIN:DAYLIGHT
TZOFFSETFROM:-0500
TZOFFSETTO:-0400
TZNAME:EDT
DTSTART:20230312T070000
END:DAYLIGHT
BEGIN:STANDARD
TZOFFSETFROM:-0400
TZOFFSETTO:-0500
TZNAME:EST
DTSTART:20231105T060000
END:STANDARD
BEGIN:DAYLIGHT
TZOFFSETFROM:-0500
TZOFFSETTO:-0400
TZNAME:EDT
DTSTART:20240310T070000
END:DAYLIGHT
BEGIN:STANDARD
TZOFFSETFROM:-0400
TZOFFSETTO:-0500
TZNAME:EST
DTSTART:20241103T060000
END:STANDARD
END:VTIMEZONE
BEGIN:VEVENT
DTSTART;TZID=America/Toronto:20230416T190000
DTEND;TZID=America/Toronto:20230416T220000
DTSTAMP:20260423T120318
CREATED:20230226T235847Z
LAST-MODIFIED:20230326T063215Z
UID:5081-1681671600-1681682400@idikw.ca
SUMMARY:Ramadan Iftar Dinner
DESCRIPTION:Intercultural Dialogue Institute Kitchener-Waterloo (IDI-KW) invites you to our Intercultural Dialogue Iftar (breaking-of-fast) Dinner. The Dinner aims to bring together people of various faith and ethnocultural backgrounds and foster dialogue and cross-cultural awareness in our multicultural society \nREGISTRATION
URL:https://idikw.ca/event/ramadan-iftar-dinner/
LOCATION:Victoria Park Pavilion\, Kitchener\, ON\, Canada
ATTACH;FMTTYPE=image/png:https://idikw.ca/wp-content/uploads/2023/02/iftar1-e1677436948389.png
ORGANIZER;CN="IDI Kitchener-Waterloo":MAILTO:info@idikw.ca
END:VEVENT
BEGIN:VEVENT
DTSTART;TZID=America/Toronto:20230325T143000
DTEND;TZID=America/Toronto:20230325T153000
DTSTAMP:20260423T120318
CREATED:20230226T233414Z
LAST-MODIFIED:20230326T063051Z
UID:5074-1679754600-1679758200@idikw.ca
SUMMARY:Fundraising for Earthquake Victims
DESCRIPTION:A ceremony was held to present the donation cheque to the Canadian Red Cross. The funds were collected from a fundraising initiative organized by the Community Kitchen Co-operative of K-W\, KW VegFest\, and the IDI-KW / Grand River Friendship Society (GRFS)\, with the generous assistance of the owners of Queen Shawarma Turkish Cuisine. The donations will be used to aid the earthquake victims in Turkiye and Syria.\nWe would like to express our gratitude to Mr. Berry Vrbanovic (Mayor of Kitchener)\, Mrs. Dorothy McCabe (Mayor of Waterloo)\, Mr. Mike Morrice (MP Kitchener—Center)\, and all other participants for their valuable contributions.
URL:https://idikw.ca/event/fundraising/
LOCATION:ON
ATTACH;FMTTYPE=image/jpeg:https://idikw.ca/wp-content/uploads/2023/02/2.jpg
END:VEVENT
BEGIN:VEVENT
DTSTART;TZID=America/Toronto:20230224T130000
DTEND;TZID=America/Toronto:20230224T150000
DTSTAMP:20260423T120318
CREATED:20230224T093819Z
LAST-MODIFIED:20230227T000506Z
UID:4954-1677243600-1677250800@idikw.ca
SUMMARY:Book Club
DESCRIPTION:CPA | Conrad Grebel University College 140 Westmount Rd N.\, Waterloo\, ON\n\n\nIDI Women Platform organizes Book Club activity every month.
URL:https://idikw.ca/event/book-club/
LOCATION:ON
CATEGORIES:events
ATTACH;FMTTYPE=image/webp:https://idikw.ca/wp-content/uploads/2023/02/Book-Club1.webp
END:VEVENT
END:VCALENDAR